BEGIN:VCALENDAR
VERSION:2.0
PRODID:-//Jugendtreff Rutesheim - ECPv6.11.2.1//NONSGML v1.0//EN
CALSCALE:GREGORIAN
METHOD:PUBLISH
X-WR-CALNAME:Jugendtreff Rutesheim
X-ORIGINAL-URL:https://jugendtreff-rutesheim.de
X-WR-CALDESC:Veranstaltungen für Jugendtreff Rutesheim
REFRESH-INTERVAL;VALUE=DURATION:PT1H
X-Robots-Tag:noindex
X-PUBLISHED-TTL:PT1H
BEGIN:VTIMEZONE
TZID:UTC
BEGIN:STANDARD
TZOFFSETFROM:+0000
TZOFFSETTO:+0000
TZNAME:UTC
DTSTART:20240101T000000
END:STANDARD
END:VTIMEZONE
BEGIN:VEVENT
DTSTART;TZID=UTC:20240308T200000
DTEND;TZID=UTC:20240308T233000
DTSTAMP:20260419T150221
CREATED:20231106T141111Z
LAST-MODIFIED:20240229T093234Z
UID:467-1709928000-1709940600@jugendtreff-rutesheim.de
SUMMARY:Selbstverwalteter Treff: offenes Haus
DESCRIPTION:
URL:https://jugendtreff-rutesheim.de/event/selbstverwalteter-treff-2/
LOCATION:Jugendtreff Rutesheim\, Jugendtreff\, Rutesheim\, Baden-Wuerttemberg\, 71277\, Deutschland
END:VEVENT
BEGIN:VEVENT
DTSTART;TZID=UTC:20240312T120000
DTEND;TZID=UTC:20240312T140000
DTSTAMP:20260419T150221
CREATED:20240229T093651Z
LAST-MODIFIED:20240229T093651Z
UID:559-1710244800-1710252000@jugendtreff-rutesheim.de
SUMMARY:Internationale Wochen gegen Rassismus: Infoveranstaltung
DESCRIPTION:Im Rahmen der Internationalen Wochen gegen Rassismus 2024 laden wir euch alle herzlich zu unserer Veranstaltung im Außenbereich des Jugendtreffs ein! \nFreut euch auf leckeres Essen\, gute Gespräche und verschiedene Spielmöglichkeiten. \n \n 
URL:https://jugendtreff-rutesheim.de/event/internationale-wochen-gegen-rassismus-infoveranstaltung/
LOCATION:Jugendtreff Rutesheim\, Jugendtreff\, Rutesheim\, Baden-Wuerttemberg\, 71277\, Deutschland
END:VEVENT
BEGIN:VEVENT
DTSTART;TZID=UTC:20240315T150000
DTEND;TZID=UTC:20240315T170000
DTSTAMP:20260419T150221
CREATED:20240229T093807Z
LAST-MODIFIED:20240229T093807Z
UID:561-1710514800-1710522000@jugendtreff-rutesheim.de
SUMMARY:Müllsammelaktion: Rutesheim räumt auf!
DESCRIPTION:
URL:https://jugendtreff-rutesheim.de/event/muellsammelaktion-rutesheim-raeumt-auf/
LOCATION:Jugendtreff Rutesheim\, Jugendtreff\, Rutesheim\, Baden-Wuerttemberg\, 71277\, Deutschland
END:VEVENT
BEGIN:VEVENT
DTSTART;TZID=UTC:20240315T213000
DTEND;TZID=UTC:20240315T230000
DTSTAMP:20260419T150221
CREATED:20231122T095751Z
LAST-MODIFIED:20231122T095751Z
UID:488-1710538200-1710543600@jugendtreff-rutesheim.de
SUMMARY:Sport bei Nacht
DESCRIPTION:
URL:https://jugendtreff-rutesheim.de/event/sport-bei-nacht-5/
LOCATION:Bühlhalle II Rutesheim\, Robert-Bosch-Str. 53\, Rutesheim
END:VEVENT
BEGIN:VEVENT
DTSTART;VALUE=DATE:20240325
DTEND;VALUE=DATE:20240327
DTSTAMP:20260419T150221
CREATED:20240229T094211Z
LAST-MODIFIED:20240229T094211Z
UID:563-1711324800-1711497599@jugendtreff-rutesheim.de
SUMMARY:Adventure-Aktion
DESCRIPTION:Es gibt noch freie Plätze! Melde dich bei Interesse einfach bei uns. \nWir freuen uns auf eine tolle Ferienaktion in Bad Urach. \n 
URL:https://jugendtreff-rutesheim.de/event/adventure-aktion/
END:VEVENT
END:VCALENDAR