BEGIN:VCALENDAR
VERSION:2.0
PRODID:-//Jugendtreff Rutesheim - ECPv6.11.2.1//NONSGML v1.0//EN
CALSCALE:GREGORIAN
METHOD:PUBLISH
X-WR-CALNAME:Jugendtreff Rutesheim
X-ORIGINAL-URL:https://jugendtreff-rutesheim.de
X-WR-CALDESC:Veranstaltungen für Jugendtreff Rutesheim
REFRESH-INTERVAL;VALUE=DURATION:PT1H
X-Robots-Tag:noindex
X-PUBLISHED-TTL:PT1H
BEGIN:VTIMEZONE
TZID:UTC
BEGIN:STANDARD
TZOFFSETFROM:+0000
TZOFFSETTO:+0000
TZNAME:UTC
DTSTART:20230101T000000
END:STANDARD
END:VTIMEZONE
BEGIN:VEVENT
DTSTART;TZID=UTC:20231109T193000
DTEND;TZID=UTC:20231109T233000
DTSTAMP:20260419T213823
CREATED:20231106T140952Z
LAST-MODIFIED:20231106T141031Z
UID:463-1699558200-1699572600@jugendtreff-rutesheim.de
SUMMARY:Selbstverwalteter Treff: Stockbrot und Glühwein
DESCRIPTION:
URL:https://jugendtreff-rutesheim.de/event/selbstverwalteter-treff/
LOCATION:Jugendtreff Rutesheim\, Jugendtreff\, Rutesheim\, Baden-Wuerttemberg\, 71277\, Deutschland
END:VEVENT
BEGIN:VEVENT
DTSTART;TZID=UTC:20231124T213000
DTEND;TZID=UTC:20231124T230000
DTSTAMP:20260419T213823
CREATED:20231122T095241Z
LAST-MODIFIED:20231122T095241Z
UID:478-1700861400-1700866800@jugendtreff-rutesheim.de
SUMMARY:Sport bei Nacht
DESCRIPTION:
URL:https://jugendtreff-rutesheim.de/event/sport-bei-nacht/
LOCATION:Bühlhalle II Rutesheim\, Robert-Bosch-Str. 53\, Rutesheim
END:VEVENT
END:VCALENDAR