BEGIN:VCALENDAR
VERSION:2.0
PRODID:-//Jugendtreff Rutesheim - ECPv6.11.2.1//NONSGML v1.0//EN
CALSCALE:GREGORIAN
METHOD:PUBLISH
X-WR-CALNAME:Jugendtreff Rutesheim
X-ORIGINAL-URL:https://jugendtreff-rutesheim.de
X-WR-CALDESC:Veranstaltungen für Jugendtreff Rutesheim
REFRESH-INTERVAL;VALUE=DURATION:PT1H
X-Robots-Tag:noindex
X-PUBLISHED-TTL:PT1H
BEGIN:VTIMEZONE
TZID:UTC
BEGIN:STANDARD
TZOFFSETFROM:+0000
TZOFFSETTO:+0000
TZNAME:UTC
DTSTART:20230101T000000
END:STANDARD
END:VTIMEZONE
BEGIN:VEVENT
DTSTART;TZID=UTC:20231012T150000
DTEND;TZID=UTC:20231012T170000
DTSTAMP:20260419T232037
CREATED:20230927T143324Z
LAST-MODIFIED:20230927T143324Z
UID:434-1697122800-1697130000@jugendtreff-rutesheim.de
SUMMARY:Weltmädchentag
DESCRIPTION:Zum Weltmädchentag gibt es wieder eine gemeinsame Aktion vom Jugendtreff Rutesheim und Jugendhaus Weissach. \nEin Nachmittag nur für Mädchen* und ihre Wünsche! Eingeladen sind alle interessierten Mädchen* ab der 5. Klasse aus Weissach und Rutesheim. Wir machen leckere Drinks\, Beauty\, Kreatives und vieles mehr. \nSei dabei\, wir freuen uns auf Dich!
URL:https://jugendtreff-rutesheim.de/event/weltmaedchentag/
LOCATION:Jugendtreff Rutesheim\, Jugendtreff\, Rutesheim\, Baden-Wuerttemberg\, 71277\, Deutschland
END:VEVENT
BEGIN:VEVENT
DTSTART;TZID=UTC:20231026T150000
DTEND;TZID=UTC:20231026T180000
DTSTAMP:20260419T232037
CREATED:20230927T143643Z
LAST-MODIFIED:20230927T143643Z
UID:438-1698332400-1698343200@jugendtreff-rutesheim.de
SUMMARY:Licht- und Sicherheitscheck am Fahrrad für die dunkle Jahreszeit
DESCRIPTION:Hier können alle Schüler*innen ihr Fahrrad kostenfrei und ohne Anmeldung überprüfen lassen. Kleinere Mängel werden direkt vor Ort behoben. So werden etwa die Bremsen eingestellt\, Schrauben nachgezogen oder die Kette geölt. Bei größeren Fahrradmängeln wird eine Checkliste ausgegeben\, mit der du zur Radwerkstatt gehen kannst.
URL:https://jugendtreff-rutesheim.de/event/licht-und-sicherheitscheck-am-fahrrad-fuer-die-dunkle-jahreszeit/
LOCATION:Jugendtreff Rutesheim\, Jugendtreff\, Rutesheim\, Baden-Wuerttemberg\, 71277\, Deutschland
END:VEVENT
BEGIN:VEVENT
DTSTART;TZID=UTC:20231026T193000
DTEND;TZID=UTC:20231026T233000
DTSTAMP:20260419T232037
CREATED:20231106T141253Z
LAST-MODIFIED:20231106T141253Z
UID:469-1698348600-1698363000@jugendtreff-rutesheim.de
SUMMARY:Selbstverwalteter Treff: Horror Movie Night
DESCRIPTION:
URL:https://jugendtreff-rutesheim.de/event/selbstverwalteter-treff-horror-movie-night/
LOCATION:Jugendtreff Rutesheim\, Jugendtreff\, Rutesheim\, Baden-Wuerttemberg\, 71277\, Deutschland
END:VEVENT
END:VCALENDAR