BEGIN:VCALENDAR
VERSION:2.0
PRODID:-//Jugendtreff Rutesheim - ECPv6.11.2.1//NONSGML v1.0//EN
CALSCALE:GREGORIAN
METHOD:PUBLISH
X-WR-CALNAME:Jugendtreff Rutesheim
X-ORIGINAL-URL:https://jugendtreff-rutesheim.de
X-WR-CALDESC:Veranstaltungen für Jugendtreff Rutesheim
REFRESH-INTERVAL;VALUE=DURATION:PT1H
X-Robots-Tag:noindex
X-PUBLISHED-TTL:PT1H
BEGIN:VTIMEZONE
TZID:UTC
BEGIN:STANDARD
TZOFFSETFROM:+0000
TZOFFSETTO:+0000
TZNAME:UTC
DTSTART:20230101T000000
END:STANDARD
END:VTIMEZONE
BEGIN:VEVENT
DTSTART;TZID=UTC:20231202T110000
DTEND;TZID=UTC:20231202T210000
DTSTAMP:20260419T213838
CREATED:20231025T093806Z
LAST-MODIFIED:20231025T093806Z
UID:453-1701514800-1701550800@jugendtreff-rutesheim.de
SUMMARY:Rutesheimer Adventsmarkt
DESCRIPTION:Am Samstag\, 02.12.2023 findet der traditionelle Rutesheimer Adventsmarkt statt.\nAuch das Jugendreferat hat in diesem Jahr wieder einen Stand. Du findest uns direkt vor dem neuen Rathaus.
URL:https://jugendtreff-rutesheim.de/event/rutesheimer-adventsmarkt/
LOCATION:Rathaus Rutesheim\, Leonberger Str. 15\, Rutesheim\, 71277
END:VEVENT
END:VCALENDAR